BEGIN:VCALENDAR
PRODID:-//kirchenweb.ch gmbh//veranstaltungsausgabe v2.0//DE
VERSION:2.0
METHOD:PUBLISH
BEGIN:VEVENT
DTSTART;VALUE=DATE:20260625
DTEND;VALUE=DATE:20260626
LOCATION:Brunnen Zentrumsplatz\, Zentrumsplatz\, 3322 Urtenen-Schönbühl
TRANSP:OPAQUE
SEQUENCE:0
UID:57113-veranstaltung@kgju.ch
DTSTAMP:20260319T134343Z
DESCRIPTION:Leitung: Herbert Blum\n\n\nKontakt: Helene Tuba\n\nWeitere
  Infos: https://www.kgju.ch/veranstaltung/57113
SUMMARY:Wandern für Senioren: Alp Imbrig
PRIORITY:5
X-MICROSOFT-CDO-IMPORTANCE:1
CLASS:PUBLIC
END:VEVENT
END:VCALENDAR
