BEGIN:VCALENDAR
PRODID:-//kirchenweb.ch gmbh//veranstaltungsausgabe v2.0//DE
VERSION:2.0
METHOD:PUBLISH
BEGIN:VEVENT
DTSTART:20260806T094500Z
DTEND:20260806T113000Z
LOCATION:Zentrumssaal Schönbühl\, Zentrumssaal\, 3322
  Urtenen-Schönbühl
TRANSP:OPAQUE
SEQUENCE:0
UID:57010-veranstaltung@kgju.ch
DTSTAMP:20260310T124806Z
DESCRIPTION:Ein feines Mittagessen in bester Gesellschaft geniessen.\n
 \nNicht nur der Gaumen kommt auf seine Kosten\, auch die Gesellschaft
  kommt nicht zu kurz. Sie können an schön dekorierten Tischen Platz
  nehmen\, Kontakte pflegen und neue schliessen.\nKosten CHF 18.- inkl.
  Getränk und Kaffee\n\n\n\n\nKontakt: Helene Tuba\n\nWeitere Infos:
  https://www.kgju.ch/veranstaltung/57010
SUMMARY:Offener Mittagstisch 60+
PRIORITY:5
X-MICROSOFT-CDO-IMPORTANCE:1
CLASS:PUBLIC
END:VEVENT
END:VCALENDAR
