BEGIN:VCALENDAR
PRODID:-//kirchenweb.ch gmbh//veranstaltungsausgabe v2.0//DE
VERSION:2.0
METHOD:PUBLISH
BEGIN:VEVENT
DTSTART:20260504T074500Z
DTEND:20260504T144500Z
LOCATION:Carreise auf den Eichberg oberhalb des Hallwilersees\, \,
TRANSP:OPAQUE
SEQUENCE:0
UID:57005-veranstaltung@kgju.ch
DTSTAMP:20260331T075155Z
DESCRIPTION:Herzliche Einladung zur Seniorenreise auf den Eichberg
  oberhalb des Hallwilersees.am Montag\, 4. Mai 2026\nDas Team vom
  Seniorennachmittag hat auch für dieses Jahr eine wunderschöne
  Reiseroute via Herzogenbuchsee - Rothrist - Suhr - Teufenthal -
  Dürrenäsch nach Seengen organisiert. Die Rückfahrt wird über Aarau -
  Olten - Aarburg auf der Autobahn sein.\nAbfahrtszeiten und
  Einstiegsmöglichkeiten:\n09.45 Uhr Urtenen\, Frischeinsel\n09.50 Uhr
  Urtenen\, Elektro Böhlen\n09.45 Uhr Mattstetten\, Dorfplatz/Brunnen
 \n09.55 Uhr Schönbühl\, Burkhalter Sport\n10.00 Uhr Schönbühl Bahnhof
  SBB\n\nRückkehr ca. 17.00 Uhr in Schönbühl\n\nKosten pro Person: Fr.
  30.00\, inbegriffen sind Carfahrt und Mittagessen ohne Getränke und
  Kaffee\n\nFinanziell mitgetragen wird die Reise von den Burgergemeinden
  Urtenen und Mattstetten\, der Kirchgemeinde Jegenstorf-Urtenen und den
  Einwohnergemeinden Urtenen-Schönbühl und Mattstetten\n\nKontakt: Frau
  Kathrin Rufer\, Urtenen-Schönbühl / Frau Erika Zbinden\, Mattstetten
  (siehe unten)\n\nWeitere Infos: https://www.kgju.ch/veranstaltung/57005
SUMMARY:Seniorenreise
PRIORITY:5
X-MICROSOFT-CDO-IMPORTANCE:1
CLASS:PUBLIC
END:VEVENT
END:VCALENDAR
