BEGIN:VCALENDAR
PRODID:-//kirchenweb.ch gmbh//veranstaltungsausgabe v2.0//DE
VERSION:2.0
METHOD:PUBLISH
BEGIN:VEVENT
DTSTART:20260625T153000Z
DTEND:20260625T180000Z
LOCATION:Come-in\, Solothurnstrasse 33\, 3322 Urtenen-Schönbühl
TRANSP:OPAQUE
SEQUENCE:0
UID:55980-veranstaltung@kgju.ch
DTSTAMP:20251219T133624Z
DESCRIPTION:Besonderes: Schnuppern für 3. Klässler:innen!\n\nWas\nZnacht
  essen\, ein spannendes Thema erleben\, Spiele\, Töggele\, Ping Pong\,
  Billard\, chillen und einfach Spass haben.\n\nWer\nFür 4.–7. Klasse.
  Ab der 7. Klasse besteht die Möglichkeit\, als Jungleitende mitzuhelfen.
 \n\nWann\nEinmal pro Monat\, am Donnerstagabend\n\nZeit \nProgramm startet
  um 17.30 Uhr und dauert bis 20.00 Uhr.\n\nAnmeldung\nbei Silä anmelden
  per Whatsapp +4131 859 79 61. Die Anmeldung erleichtert uns die Planung.
 \n\nWo\nIm Jugendtreff Come-in\, in der Zivilschutzanlage\,
  Solothurnstrasse 33\, Urtenen-Schönbühl\n\nLeitung \nSilvia Blatter mit
  TeensTeam\, +4131 859 79 61\, Telefon im Come-in: 031 853 14 33\n(Kein
  Handy-Empfang\, nur WLAN)\n\nKontakt: Silvia Blatter\n\nWeitere Infos:
  https://www.kgju.ch/veranstaltung/55980
SUMMARY:Teens-Programm
PRIORITY:5
X-MICROSOFT-CDO-IMPORTANCE:1
CLASS:PUBLIC
END:VEVENT
END:VCALENDAR
