BEGIN:VCALENDAR
PRODID:-//kirchenweb.ch gmbh//veranstaltungsausgabe v2.0//DE
VERSION:2.0
METHOD:PUBLISH
BEGIN:VEVENT
DTSTART:20260522T081500Z
DTEND:20260522T091500Z
LOCATION:Alterswohnsitz Urtenen-Schönbühl\, Badstrasse 1\, 3322
  Urtenen-Schönbühl
TRANSP:OPAQUE
SEQUENCE:0
UID:54736-veranstaltung@kgju.ch
DTSTAMP:20260404T183311Z
DESCRIPTION:Die Andacht wird gestaltet von Pfarrer David Bringold und
  Organistin Linda Rickli. Auch Aussenstehende sind herzlich willkommen\n
 \nKontakt: david.bringold@kirche-urtenen.ch\n\nWeitere Infos:
  https://www.kgju.ch/veranstaltung/54736
SUMMARY:Andacht im Alterswohnsitz
PRIORITY:5
X-MICROSOFT-CDO-IMPORTANCE:1
CLASS:PUBLIC
END:VEVENT
END:VCALENDAR
