BEGIN:VCALENDAR
PRODID:-//kirchenweb.ch gmbh//veranstaltungsausgabe v2.0//DE
VERSION:2.0
METHOD:PUBLISH
BEGIN:VEVENT
DTSTART:20251102T090000Z
DTEND:20251102T120000Z
LOCATION:Kirche Urtenen\, Friedhofweg 9\, 3322 Urtenen-Schönbühl
TRANSP:OPAQUE
SEQUENCE:0
UID:49442-veranstaltung@kgju.ch
DTSTAMP:20251031T111049Z
DESCRIPTION:Thema: Du – dein Menschenbild\nIst der Mensch jetzt
  eigentlich gut oder böse? Welche Aussagen findet man in der Bibel
  darüber? Wie hat sich das Menschenbild im laufe der Zeit verändert? Und
  was hat das mit meinem Alltag zu tun?\n\nIn den «Gottesdiensten zum
  Weiterdenken» hat es Raum für eigene Gedanken\, Fragen und Austausch.
  Es dürfen Glaubensvorstellungen zerknüllt\, neue Perspektiven entdeckt
  und Zweifel angesprochen werden. Ein Gottesdienst\, in dem der Glaube bis
  in den Alltag weitergedacht wird – ohne fertige Antworten.\n\n9.45 Uhr
  Welcome. 10.00 Uhr Start aller Generationen im Gottesdienst\, danach
  separates Kinderprogramm und ein Spielzimmer für die Kleinsten direkt
  bei der Empore. \nAnschliessend gemeinsames Mittagessen.\n\nMusik von
  http://www.stimmlisch.ch\n\nVorbereitungsteam: Silvia Blatter\, Ramona
  Rohrbach\, Walter Wermelinger\, Seraine Stricker\, Alfred Aeppli\n
 \nKontakt: Silvia Blatter\n\nWeitere Infos:
  https://www.kgju.ch/veranstaltung/49442
SUMMARY:Knüller-Gottesdienst zum Reformationssonntag
PRIORITY:5
X-MICROSOFT-CDO-IMPORTANCE:1
CLASS:PUBLIC
END:VEVENT
END:VCALENDAR
