BEGIN:VCALENDAR
PRODID:-//kirchenweb.ch gmbh//veranstaltungsausgabe v2.0//DE
VERSION:2.0
METHOD:PUBLISH
BEGIN:VEVENT
DTSTART:20211024T150000Z
DTEND:20211024T160000Z
LOCATION:Kirche Urtenen\, Friedhofweg 9\, 3322 Urtenen-Schönbühl
TRANSP:OPAQUE
SEQUENCE:0
UID:35618-veranstaltung@kgju.ch
DTSTAMP:20220430T172207Z
DESCRIPTION:Eines der ersten aktuellen Konzerte von
  https://www.jessemusic.ch/ findet in seiner Heimatgemeinde und
  Heimatkirche bei uns in Urtenen-Schönbühl statt\, organisiert von der
  der reformierten Kirchgemeinde und der Kulturkommission
  Urtenen-Schönbühl. \n\nAnstelle eines Billettverkaufs bitten wir um
  Unterstützung der Kollekte. Für den Zutritt gilt eine
  Covid-Zertifikatspflicht. \nDas Reservationsformular ist geschlossen. Es
  sind zahlreiche freie Plätze für einen spontanen Konzertbesuch
  vorhanden. \n\nGanz unter dem Motto «Weniger isch meh» tritt der Berner
  Sänger JESSE mit seinem Unplugged Set auf. Der intime Rahmen sorgt
  definitiv für noch mehr Gefühle! Wer JESSE kennt\, weiss dass ruhig
  nicht gleich langweilig heisst! Der charismatische Popsänger versteht
  es\, mit seiner sympathischen und frischen Art Jung und Alt zu
  begeistern. Mit Mundartsongs wie «Schnufe» oder «Schön das es di
  git» singt Jesse aus seinem Leben direkt in die Herzen des Publikums. \n
 \nDer Anlass wird wird organisiert in Zusammenarbeit mit der
  Kulturkommission Urtenen-Schönbühl. \n\n\nFür weitere Infos und
  Rückfragen:\nPfarrer David Bringold\, Friedhofweg 10\, 3322
  Urtenen-Schönbühl\, david.bringold@kirche-urtenen.ch\, 031 859 46 24\n
 \nKontakt: david.bringold@kirche-urtenen.ch\n\nWeitere Infos:
  https://www.kgju.ch/veranstaltung/35618
SUMMARY:Konzert JESSE «Weniger isch meh» Mundart Unplugged Tour
PRIORITY:5
X-MICROSOFT-CDO-IMPORTANCE:1
CLASS:PUBLIC
END:VEVENT
END:VCALENDAR
